BEGIN:VCALENDAR
VERSION:2.0
PRODID:-//Contratero//ES
CALSCALE:GREGORIAN
METHOD:PUBLISH
BEGIN:VEVENT
UID:SER-34/23 FR@contratero.es
DTSTAMP:20260423T131708Z
DTSTART:20230425T235959
DTEND:20230426T005959
SUMMARY:Cierre: Desarrollo\, soporte e integración de una plataform
DESCRIPTION:Desarrollo\, soporte e integración de una plataforma para la gestión de credenciales académicas digitales (CAD) basadas en Blockchain dentro del marco de UNIDIGITAL (Financiado con Plan de Recuperación...\\n\\nOrganismo: Rectorado de la Universidad Politécnica de Madrid\\n\\nVer en Contratero: https://contratero.es/contracts/SER-34/23 FR
URL:https://contratero.es/contracts/SER-34/23 FR
STATUS:CONFIRMED
BEGIN:VALARM
TRIGGER:-P1D
ACTION:DISPLAY
DESCRIPTION:Recordatorio: Desarrollo\, soporte e integrac
END:VALARM
END:VEVENT
END:VCALENDAR